BEGIN:VCALENDAR
VERSION:2.0
PRODID:-//PerformanceMarketing.de - ECPv6.15.20//NONSGML v1.0//EN
CALSCALE:GREGORIAN
METHOD:PUBLISH
X-ORIGINAL-URL:https://www.performancemarketing.de
X-WR-CALDESC:Veranstaltungen für PerformanceMarketing.de
REFRESH-INTERVAL;VALUE=DURATION:PT1H
X-Robots-Tag:noindex
X-PUBLISHED-TTL:PT1H
BEGIN:VTIMEZONE
TZID:Europe/Berlin
BEGIN:DAYLIGHT
TZOFFSETFROM:+0100
TZOFFSETTO:+0200
TZNAME:CEST
DTSTART:20150329T010000
END:DAYLIGHT
BEGIN:STANDARD
TZOFFSETFROM:+0200
TZOFFSETTO:+0100
TZNAME:CET
DTSTART:20151025T010000
END:STANDARD
BEGIN:DAYLIGHT
TZOFFSETFROM:+0100
TZOFFSETTO:+0200
TZNAME:CEST
DTSTART:20160327T010000
END:DAYLIGHT
BEGIN:STANDARD
TZOFFSETFROM:+0200
TZOFFSETTO:+0100
TZNAME:CET
DTSTART:20161030T010000
END:STANDARD
BEGIN:DAYLIGHT
TZOFFSETFROM:+0100
TZOFFSETTO:+0200
TZNAME:CEST
DTSTART:20170326T010000
END:DAYLIGHT
BEGIN:STANDARD
TZOFFSETFROM:+0200
TZOFFSETTO:+0100
TZNAME:CET
DTSTART:20171029T010000
END:STANDARD
END:VTIMEZONE
BEGIN:VEVENT
DTSTART;VALUE=DATE:20161124
DTEND;VALUE=DATE:20161125
DTSTAMP:20260424T185217
CREATED:20160928T135443Z
LAST-MODIFIED:20160928T135443Z
UID:827-1479945600-1480031999@www.performancemarketing.de
SUMMARY:48forward
DESCRIPTION:Die Innovations- und Zukunftskonferenz 48forward legt ihren Fokus auf Trends und Visionen in unterschiedlichen Lebens- und Wirtschaftsräumen. Dabei geht es nicht um Marketing-Präsentationen\, sondern um die Ideen hinter den Produkten und die Rolle\, die diese in einer sich immer weiterentwickelnden Welt spielen. In diesem Jahr werden neben 400 Teilnehmern 30 hochklassige Speaker aus aller Welt erwartet\, dabei sind u.a.: Francesco Maroni (Associated Press)\, Jeremy Tai Abbett (Google)\, Thomas de Buhr (Twitter)\, Oliver von Wersch (G+J Digital) und Mustafa K. Isik (Bayerischer Rundfunk).
URL:https://www.performancemarketing.de/event/48forward/
LOCATION:Freiheiz\, Rainer-Werner-Fassbinder-Platz 1\, München\, 80637\, Deutschland
CATEGORIES:Konferenz
ORGANIZER;CN="F%C3%BCrg Media UG%2C Daniel F%C3%BCrg":MAILTO:info@fuerg-media.com
END:VEVENT
END:VCALENDAR