BEGIN:VCALENDAR
VERSION:2.0
PRODID:-//PerformanceMarketing.de - ECPv6.15.20//NONSGML v1.0//EN
CALSCALE:GREGORIAN
METHOD:PUBLISH
X-ORIGINAL-URL:https://www.performancemarketing.de
X-WR-CALDESC:Veranstaltungen für PerformanceMarketing.de
REFRESH-INTERVAL;VALUE=DURATION:PT1H
X-Robots-Tag:noindex
X-PUBLISHED-TTL:PT1H
BEGIN:VTIMEZONE
TZID:Europe/Berlin
BEGIN:DAYLIGHT
TZOFFSETFROM:+0100
TZOFFSETTO:+0200
TZNAME:CEST
DTSTART:20150329T010000
END:DAYLIGHT
BEGIN:STANDARD
TZOFFSETFROM:+0200
TZOFFSETTO:+0100
TZNAME:CET
DTSTART:20151025T010000
END:STANDARD
BEGIN:DAYLIGHT
TZOFFSETFROM:+0100
TZOFFSETTO:+0200
TZNAME:CEST
DTSTART:20160327T010000
END:DAYLIGHT
BEGIN:STANDARD
TZOFFSETFROM:+0200
TZOFFSETTO:+0100
TZNAME:CET
DTSTART:20161030T010000
END:STANDARD
BEGIN:DAYLIGHT
TZOFFSETFROM:+0100
TZOFFSETTO:+0200
TZNAME:CEST
DTSTART:20170326T010000
END:DAYLIGHT
BEGIN:STANDARD
TZOFFSETFROM:+0200
TZOFFSETTO:+0100
TZNAME:CET
DTSTART:20171029T010000
END:STANDARD
END:VTIMEZONE
BEGIN:VEVENT
DTSTART;TZID=Europe/Berlin:20161111T080000
DTEND;TZID=Europe/Berlin:20161112T180000
DTSTAMP:20260424T185222
CREATED:20160930T125047Z
LAST-MODIFIED:20160930T125324Z
UID:833-1478851200-1478973600@www.performancemarketing.de
SUMMARY:Barcamp Hamburg
DESCRIPTION:Das Barcamp Hamburg findet in diesem Jahr bereits zum 10. Mal statt. Barcamps sind offene\, partizipative Veranstaltungen\, deren Ablauf und Inhalte direkt von den jeweiligen Teilnehmern bestimmt werden. Diese „Unkonferenzen“ stehen unter dem Motto „No spectators\, only participants!“. Durch aktive und intensive Diskussionsrunden\, Präsentationen\, die Interaktion der Teilnehmer sowie der Möglichkeit\, Inhalte selbst zu gestalten\, entsteht nicht nur eine offene Atmosphäre\, sondern generell ein innovatives und spannendes Event. Natürlich gibt es neben informativen Sessions auch genügend Möglichkeiten zum Erfahrungsaustausch und Netzwerken.
URL:https://www.performancemarketing.de/event/barcamp-hamburg/
LOCATION:OTTO GmbH & Co. KG\, Werner-Otto-Straße 1-7\, Hamburg\, 22179\, Deutschland
CATEGORIES:Event
ORGANIZER;CN="mixxt GmbH%2C Vivian Pein":MAILTO:v@vivianpein.de
END:VEVENT
END:VCALENDAR