BEGIN:VCALENDAR
VERSION:2.0
PRODID:-//PerformanceMarketing.de - ECPv6.15.20//NONSGML v1.0//EN
CALSCALE:GREGORIAN
METHOD:PUBLISH
X-WR-CALNAME:PerformanceMarketing.de
X-ORIGINAL-URL:https://www.performancemarketing.de
X-WR-CALDESC:Veranstaltungen für PerformanceMarketing.de
REFRESH-INTERVAL;VALUE=DURATION:PT1H
X-Robots-Tag:noindex
X-PUBLISHED-TTL:PT1H
BEGIN:VTIMEZONE
TZID:Europe/Berlin
BEGIN:DAYLIGHT
TZOFFSETFROM:+0100
TZOFFSETTO:+0200
TZNAME:CEST
DTSTART:20150329T010000
END:DAYLIGHT
BEGIN:STANDARD
TZOFFSETFROM:+0200
TZOFFSETTO:+0100
TZNAME:CET
DTSTART:20151025T010000
END:STANDARD
BEGIN:DAYLIGHT
TZOFFSETFROM:+0100
TZOFFSETTO:+0200
TZNAME:CEST
DTSTART:20160327T010000
END:DAYLIGHT
BEGIN:STANDARD
TZOFFSETFROM:+0200
TZOFFSETTO:+0100
TZNAME:CET
DTSTART:20161030T010000
END:STANDARD
BEGIN:DAYLIGHT
TZOFFSETFROM:+0100
TZOFFSETTO:+0200
TZNAME:CEST
DTSTART:20170326T010000
END:DAYLIGHT
BEGIN:STANDARD
TZOFFSETFROM:+0200
TZOFFSETTO:+0100
TZNAME:CET
DTSTART:20171029T010000
END:STANDARD
END:VTIMEZONE
BEGIN:VEVENT
DTSTART;VALUE=DATE:20160925
DTEND;VALUE=DATE:20160928
DTSTAMP:20260424T212152
CREATED:20160912T134117Z
LAST-MODIFIED:20160912T134613Z
UID:609-1474761600-1475020799@www.performancemarketing.de
SUMMARY:Bits & Pretzels
DESCRIPTION:Das wichtigste Netzwerktreffen für Entrepreneure aus aller Welt! Mehr als 5.000 Teilnehmer und rund 60 hochkarätige Speaker machen die dreitägige Konferenz zu einem Must-Event\, nicht nur für Start-Ups. Die Veranstaltungen der ersten beiden Tage finden im Internationalen Congress Center München statt\, das große Finale steigt anschließend auf dem Oktoberfest im Schottenhamel-Festzelt auf der Theresienwiese. Als Speaker werden u.a. Kevin Spacey (Schauspieler)\, Sir Richard Branson (Virgin)\, Nathan Blecharczyk (airbnb)\, Jörg Kachelmann (kachelmannwetter.com) sowie Jochen Schweizer\, Judith Williams\, Carsten Maschmeyer und Frank Thelen („Die Höhle der Löwen“) erwartet. Ein Live-Konzert geben die Sportfreunde Stiller.
URL:https://www.performancemarketing.de/event/bits-pretzels/
LOCATION:ICM Internationales Congress Centrum München\, Messegelände\, München\, 81823\, Deutschland
CATEGORIES:Konferenz
ORGANIZER;CN="Startup Events UG":MAILTO:hello@bitsandpretzels.com
END:VEVENT
END:VCALENDAR